BEGIN:VCALENDAR
VERSION:2.0
PRODID:icalendar-ruby
CALSCALE:GREGORIAN
METHOD:PUBLISH
BEGIN:VEVENT
DTSTAMP:20260421T085631Z
UID:224-831955@uumeriden.org
DTSTART:20261011T143000Z
DTEND:20261011T153000Z
CLASS:PUBLIC
CREATED:20260420T210307
DESCRIPTION:
LAST-MODIFIED:20260420T210307
LOCATION:https://go.uumeriden.org/zoom
SUMMARY:Worship Service 
URL;VALUE=URI:https://uumeriden.org/events/worship-service--224/2026-10-11
END:VEVENT
END:VCALENDAR
