BEGIN:VCALENDAR
VERSION:2.0
PRODID:icalendar-ruby
CALSCALE:GREGORIAN
METHOD:PUBLISH
BEGIN:VEVENT
DTSTAMP:20260421T101908Z
UID:224-831956@uumeriden.org
DTSTART:20261018T143000Z
DTEND:20261018T153000Z
CLASS:PUBLIC
CREATED:20260420T210307
DESCRIPTION:
LAST-MODIFIED:20260420T210307
LOCATION:https://go.uumeriden.org/zoom
SUMMARY:Worship Service 
URL;VALUE=URI:https://uumeriden.org/events/worship-service--224/2026-10-18
END:VEVENT
END:VCALENDAR
