BEGIN:VCALENDAR
VERSION:2.0
PRODID:icalendar-ruby
CALSCALE:GREGORIAN
METHOD:PUBLISH
BEGIN:VEVENT
DTSTAMP:20260421T125119Z
UID:224-832766@uumeriden.org
DTSTART:20261101T153000Z
DTEND:20261101T163000Z
CLASS:PUBLIC
CREATED:20260421T080955
DESCRIPTION:
LAST-MODIFIED:20260421T080955
LOCATION:https://go.uumeriden.org/zoom
SUMMARY:Worship Service 
URL;VALUE=URI:https://uumeriden.org/events/worship-service--224/2026-11-01
END:VEVENT
END:VCALENDAR
