BEGIN:VCALENDAR
VERSION:2.0
PRODID:icalendar-ruby
CALSCALE:GREGORIAN
METHOD:PUBLISH
BEGIN:VEVENT
DTSTAMP:20260421T141422Z
UID:224-832767@uumeriden.org
DTSTART:20261108T153000Z
DTEND:20261108T163000Z
CLASS:PUBLIC
CREATED:20260421T080955
DESCRIPTION:
LAST-MODIFIED:20260421T080955
LOCATION:https://go.uumeriden.org/zoom
SUMMARY:Worship Service 
URL;VALUE=URI:https://uumeriden.org/events/worship-service--224/2026-11-08
END:VEVENT
END:VCALENDAR
