BEGIN:VCALENDAR
VERSION:2.0
PRODID:icalendar-ruby
CALSCALE:GREGORIAN
METHOD:PUBLISH
BEGIN:VEVENT
DTSTAMP:20260421T154634Z
UID:224-833576@uumeriden.org
DTSTART:20261115T153000Z
DTEND:20261115T163000Z
CLASS:PUBLIC
CREATED:20260421T104521
DESCRIPTION:
LAST-MODIFIED:20260421T104521
LOCATION:https://go.uumeriden.org/zoom
SUMMARY:Worship Service 
URL;VALUE=URI:https://uumeriden.org/events/worship-service--224/2026-11-15
END:VEVENT
END:VCALENDAR
