BEGIN:VCALENDAR
VERSION:2.0
PRODID:icalendar-ruby
CALSCALE:GREGORIAN
METHOD:PUBLISH
BEGIN:VEVENT
DTSTAMP:20260420T032408Z
UID:297-811039@uumeriden.org
DTSTART:20260503T143000Z
DTEND:20260503T153000Z
CLASS:PUBLIC
CREATED:20260416T170943
DESCRIPTION:With help from Saint Ted Lasso\, Rev. Tony Lorenzen reflects on
  why it's so difficult to replace judgement with curiosity and some strate
 gies for staying curious and holding off on judgement.    BUDGET HEARING
  SUNDAY
LAST-MODIFIED:20260416T170943
LOCATION:
SUMMARY:Worship Service 
URL;VALUE=URI:https://uumeriden.org/events/worship-service--297/2026-05-03
ATTACH;FILENAME=Be-Curious-Not-Judgemental.png;FMTTYPE=image/png:https://dq
 5pwpg1q8ru0.cloudfront.net/2026/04/16/21/09/43/601290a5-787c-49bc-899b-acd
 83ccec49e/Be-Curious-Not-Judgemental.png
END:VEVENT
END:VCALENDAR
