BEGIN:VCALENDAR
VERSION:2.0
PRODID:icalendar-ruby
CALSCALE:GREGORIAN
METHOD:PUBLISH
BEGIN:VEVENT
DTSTAMP:20260420T031123Z
UID:298-811074@uumeriden.org
DTSTART:20260510T143000Z
DTEND:20260510T153000Z
CLASS:PUBLIC
CREATED:20260416T171451
DESCRIPTION:Andrea Sanchez talks about the work of CT Students for a Dream 
 and how they are involved in helpoing immigrant students in CT.
LAST-MODIFIED:20260416T171451
LOCATION:
SUMMARY:Worship Service 
URL;VALUE=URI:https://uumeriden.org/events/worship-service--298/2026-05-10
ATTACH;FILENAME=CT-Students.jpg;FMTTYPE=image/jpeg:https://dq5pwpg1q8ru0.cl
 oudfront.net/2026/04/16/21/14/50/ed36ab06-5e2b-4b9f-a195-756ff182ceab/CT-S
 tudents.jpg
END:VEVENT
END:VCALENDAR
